BEGIN:VCALENDAR
VERSION:2.0
PRODID:-//semiac.org//Flavor Calendar Sync 2.1.0//EN
CALSCALE:GREGORIAN
METHOD:PUBLISH
X-WR-CALNAME:Semiac.org Calendar
X-WR-CALDESC:Events published on semiac.org
X-WR-TIMEZONE:UTC
REFRESH-INTERVAL;VALUE=DURATION:PT15M
X-PUBLISHED-TTL:PT15M
BEGIN:VEVENT
UID:69c047e36f36e4.90003436-nLWDA1Qz@tbpmie.org
DTSTART:20260423T140000Z
DTEND:20260423T070000Z
DTSTAMP:20260322T202049Z
CREATED:20260322T194955Z
LAST-MODIFIED:20260322T202049Z
SEQUENCE:0
SUMMARY:Finals Study Slam
DESCRIPTION:An open study event in preparation for final exams\, hosted by 
	Tau Beta Pi and sponsored by the Dean of Students Office. We&#8217\;ll have
	 food and beverages\, tutors\, and supportive peers to help participants ge
	t through the last stretch of the semester!
URL:https://tbpmie.org/events/finals-study-slam/
LOCATION:Ford Activities Room\, 5050 Anthony Wayne Dr\, Detroit\, Michigan\
	, USA
STATUS:CONFIRMED
CLASS:PUBLIC
COLOR:#7c079c
END:VEVENT
END:VCALENDAR
